BEGIN:VCALENDAR
VERSION:2.0
METHOD:PUBLISH
BEGIN:VEVENT
DTSTAMP:20260422T121836Z
DTSTART:20240215T230000Z
DTEND:20240215T230000Z
SUMMARY:St. Paul Crafters Circle
LOCATION:441 St. Paul Avenue
END:VEVENT
END:VCALENDAR
