BEGIN:VCALENDAR
VERSION:2.0
METHOD:PUBLISH
BEGIN:VEVENT
DTSTAMP:20260421T100635Z
DTSTART:20240207T153000Z
DTEND:20240207T160000Z
SUMMARY:Storytime at St. Paul
LOCATION:441 St. Paul Avenue
END:VEVENT
END:VCALENDAR
