BEGIN:VCALENDAR
VERSION:2.0
METHOD:PUBLISH
BEGIN:VEVENT
DTSTAMP:20260423T231713Z
DTSTART:20240130T233000Z
DTEND:20240131T003000Z
SUMMARY:Brantford Bookworms
LOCATION:441 St. Paul Avenue
END:VEVENT
END:VCALENDAR
