BEGIN:VCALENDAR
VERSION:2.0
METHOD:PUBLISH
BEGIN:VEVENT
DTSTAMP:20260422T024149Z
DTSTART:20240112T160000Z
DTEND:20240112T164500Z
SUMMARY:Yoga in the Library
LOCATION:173 Colborne Street
END:VEVENT
END:VCALENDAR
