BEGIN:VCALENDAR
VERSION:2.0
METHOD:PUBLISH
BEGIN:VEVENT
DTSTAMP:20260422T023443Z
DTSTART:20240105T160000Z
DTEND:20240105T164500Z
SUMMARY:Yoga in the Library
LOCATION:173 Colborne Street
END:VEVENT
END:VCALENDAR
