BEGIN:VCALENDAR
VERSION:2.0
METHOD:PUBLISH
BEGIN:VEVENT
DTSTAMP:20260421T015821Z
DTSTART:20240105T143000Z
DTEND:20240105T213000Z
SUMMARY:Holiday Programs
LOCATION:173 Colborne Street / 441 St. Paul Avenue
END:VEVENT
END:VCALENDAR
