BEGIN:VCALENDAR
VERSION:2.0
METHOD:PUBLISH
BEGIN:VEVENT
DTSTAMP:20260422T103702Z
DTSTART:20240104T230000Z
DTEND:20240104T230000Z
SUMMARY:St. Paul Crafters Circle
LOCATION:441 St. Paul Avenue
END:VEVENT
END:VCALENDAR
