BEGIN:VCALENDAR
VERSION:2.0
METHOD:PUBLISH
BEGIN:VEVENT
DTSTAMP:20260421T000707Z
DTSTART:20240104T143000Z
DTEND:20240104T213000Z
SUMMARY:Holiday Programs
LOCATION:173 Colborne Street / 441 St. Paul Avenue
END:VEVENT
END:VCALENDAR
