BEGIN:VCALENDAR
VERSION:2.0
METHOD:PUBLISH
BEGIN:VEVENT
DTSTAMP:20260423T213636Z
DTSTART:20231128T230000Z
DTEND:20231129T003000Z
SUMMARY:Brantford Bookworms
LOCATION:441 St. Paul Avenue
END:VEVENT
END:VCALENDAR
