BEGIN:VCALENDAR
VERSION:2.0
METHOD:PUBLISH
BEGIN:VEVENT
DTSTAMP:20260421T125422Z
DTSTART:20231107T173000Z
DTEND:20231107T190000Z
SUMMARY:Housing Search Computer Lab
LOCATION:173 Colborne Street
END:VEVENT
END:VCALENDAR
