BEGIN:VCALENDAR
VERSION:2.0
METHOD:PUBLISH
BEGIN:VEVENT
DTSTAMP:20260421T234405Z
DTSTART:20231103T150000Z
DTEND:20231103T154500Z
SUMMARY:Yoga in the Library
LOCATION:173 Colborne Street
END:VEVENT
END:VCALENDAR
