BEGIN:VCALENDAR
VERSION:2.0
METHOD:PUBLISH
BEGIN:VEVENT
DTSTAMP:20260421T175114Z
DTSTART:20231018T193000Z
DTEND:20231018T213000Z
SUMMARY:Crossroads Youth Drop-In Space
LOCATION:173 Colborne Street
END:VEVENT
END:VCALENDAR
