BEGIN:VCALENDAR
VERSION:2.0
METHOD:PUBLISH
BEGIN:VEVENT
DTSTAMP:20260421T161032Z
DTSTART:20231011T193000Z
DTEND:20231011T213000Z
SUMMARY:Crossroads Youth Drop-In Space
LOCATION:173 Colborne Street
END:VEVENT
END:VCALENDAR
