BEGIN:VCALENDAR
VERSION:2.0
METHOD:PUBLISH
BEGIN:VEVENT
DTSTAMP:20260421T144519Z
DTSTART:20230906T193000Z
DTEND:20230906T213000Z
SUMMARY:Crossroads Youth Drop-In Space
LOCATION:173 Colborne Street
END:VEVENT
END:VCALENDAR
