BEGIN:VCALENDAR
VERSION:2.0
METHOD:PUBLISH
BEGIN:VEVENT
DTSTAMP:20260424T121322Z
DTSTART:20230803T220000Z
DTEND:20230803T220000Z
SUMMARY:St. Paul Crafters Circle
LOCATION:441 St. Paul Avenue
END:VEVENT
END:VCALENDAR
