BEGIN:VCALENDAR
VERSION:2.0
METHOD:PUBLISH
BEGIN:VEVENT
DTSTAMP:20260424T140708Z
DTSTART:20230703T140000Z
DTEND:20230703T150000Z
SUMMARY:Tech Time
LOCATION:173 Colborne Street
END:VEVENT
END:VCALENDAR
