BEGIN:VCALENDAR
VERSION:2.0
METHOD:PUBLISH
BEGIN:VEVENT
DTSTAMP:20260421T101608Z
DTSTART:20230621T193000Z
DTEND:20230621T213000Z
SUMMARY:Crossroads Youth Drop-In Space
LOCATION:173 Colborne Street
END:VEVENT
END:VCALENDAR
