BEGIN:VCALENDAR
VERSION:2.0
METHOD:PUBLISH
BEGIN:VEVENT
DTSTAMP:20260424T110851Z
DTSTART:20230605T140000Z
DTEND:20230605T150000Z
SUMMARY:Tech Time
LOCATION:173 Colborne Street
END:VEVENT
END:VCALENDAR
