BEGIN:VCALENDAR
VERSION:2.0
METHOD:PUBLISH
BEGIN:VEVENT
DTSTAMP:20260421T131156Z
DTSTART:20230217T160000Z
DTEND:20230217T164500Z
SUMMARY:Yoga in the Library
LOCATION:173 Colborne Street
END:VEVENT
END:VCALENDAR
