BEGIN:VCALENDAR
VERSION:2.0
METHOD:PUBLISH
BEGIN:VEVENT
DTSTAMP:20260424T155253Z
DTSTART:20230207T150000Z
DTEND:20230207T170000Z
SUMMARY:Expectant and New Mothers Network: Infant Massage
LOCATION:173 Colborne Street
END:VEVENT
END:VCALENDAR
