BEGIN:VCALENDAR
VERSION:2.0
METHOD:PUBLISH
BEGIN:VEVENT
DTSTAMP:20260422T012311Z
DTSTART:20230202T230000Z
DTEND:20230202T230000Z
SUMMARY:St. Paul Crafters Circle
LOCATION:441 St. Paul Avenue
END:VEVENT
END:VCALENDAR
