BEGIN:VCALENDAR
VERSION:2.0
METHOD:PUBLISH
BEGIN:VEVENT
DTSTAMP:20260424T134153Z
DTSTART:20230131T150000Z
DTEND:20230131T170000Z
SUMMARY:Expectant and New Mothers Network: Infant Massage
LOCATION:173 Colborne Street
END:VEVENT
END:VCALENDAR
