BEGIN:VCALENDAR
VERSION:2.0
METHOD:PUBLISH
BEGIN:VEVENT
DTSTAMP:20260421T131308Z
DTSTART:20221229T183000Z
DTEND:20221229T210000Z
SUMMARY:Come Play! - EarlyON
LOCATION:173 Colborne Street
END:VEVENT
END:VCALENDAR
