BEGIN:VCALENDAR
VERSION:2.0
METHOD:PUBLISH
BEGIN:VEVENT
DTSTAMP:20260421T131436Z
DTSTART:20221222T183000Z
DTEND:20221222T210000Z
SUMMARY:Come Play! - EarlyON
LOCATION:173 Colborne Street
END:VEVENT
END:VCALENDAR
