BEGIN:VCALENDAR
VERSION:2.0
METHOD:PUBLISH
BEGIN:VEVENT
DTSTAMP:20260421T190102Z
DTSTART:20221115T210000Z
DTEND:20221116T000000Z
SUMMARY:Book Buddies (Grades 2 to 6)
LOCATION:173 Colborne Street
END:VEVENT
END:VCALENDAR
