BEGIN:VCALENDAR
VERSION:2.0
METHOD:PUBLISH
BEGIN:VEVENT
DTSTAMP:20260420T023116Z
DTSTART:20221110T210000Z
DTEND:20221111T000000Z
SUMMARY:Reading Club (Grades 7 and 8)
LOCATION:173 Colborne Street and Online
END:VEVENT
END:VCALENDAR
