BEGIN:VCALENDAR
VERSION:2.0
METHOD:PUBLISH
BEGIN:VEVENT
DTSTAMP:20260421T120817Z
DTSTART:20221110T153000Z
DTEND:20221110T160000Z
SUMMARY:Preschool Stars Storytime
LOCATION:173 Colborne Street
END:VEVENT
END:VCALENDAR
