BEGIN:VCALENDAR
VERSION:2.0
METHOD:PUBLISH
BEGIN:VEVENT
DTSTAMP:20260421T173100Z
DTSTART:20221103T200000Z
DTEND:20221103T230000Z
SUMMARY:Book Buddies (Grades 2 to 6)
LOCATION:173 Colborne Street
END:VEVENT
END:VCALENDAR
