BEGIN:VCALENDAR
VERSION:2.0
METHOD:PUBLISH
BEGIN:VEVENT
DTSTAMP:20260421T103406Z
DTSTART:20221103T143000Z
DTEND:20221103T150000Z
SUMMARY:Preschool Stars Storytime
LOCATION:173 Colborne Street
END:VEVENT
END:VCALENDAR
