BEGIN:VCALENDAR
VERSION:2.0
METHOD:PUBLISH
BEGIN:VEVENT
DTSTAMP:20260421T235805Z
DTSTART:20221020T220000Z
DTEND:20221020T220000Z
SUMMARY:St. Paul Crafters Circle
LOCATION:441 St. Paul Avenue
END:VEVENT
END:VCALENDAR
