BEGIN:VCALENDAR
VERSION:2.0
METHOD:PUBLISH
BEGIN:VEVENT
DTSTAMP:20260421T082108Z
DTSTART:20220816T140000Z
DTEND:20220816T160000Z
SUMMARY:Expectant and New Mothers Network
LOCATION:173 Colborne Street
END:VEVENT
END:VCALENDAR
