BEGIN:VCALENDAR
VERSION:2.0
METHOD:PUBLISH
BEGIN:VEVENT
DTSTAMP:20260421T050848Z
DTSTART:20220628T140000Z
DTEND:20220628T160000Z
SUMMARY:Expectant and New Mothers Network
LOCATION:173 Colborne Street
END:VEVENT
END:VCALENDAR
