BEGIN:VCALENDAR
VERSION:2.0
METHOD:PUBLISH
BEGIN:VEVENT
DTSTAMP:20260423T002830Z
DTSTART:20220614T040500Z
DTEND:20220614T040500Z
SUMMARY:Juice Box Book Talks
LOCATION:Online
END:VEVENT
END:VCALENDAR
