BEGIN:VCALENDAR
VERSION:2.0
METHOD:PUBLISH
BEGIN:VEVENT
DTSTAMP:20260420T042214Z
DTSTART:20220526T143000Z
DTEND:20220526T150000Z
SUMMARY:Preschool Stars Storytime
LOCATION:173 Colborne Street
END:VEVENT
END:VCALENDAR
