BEGIN:VCALENDAR
VERSION:2.0
METHOD:PUBLISH
BEGIN:VEVENT
DTSTAMP:20260420T044935Z
DTSTART:20220210T233000Z
DTEND:20220211T010000Z
SUMMARY:Unity in Diversity: Human Library Series
LOCATION:Online
END:VEVENT
END:VCALENDAR
