BEGIN:VCALENDAR
VERSION:2.0
METHOD:PUBLISH
BEGIN:VEVENT
DTSTAMP:20260419T183439Z
DTSTART:20210531T143000Z
DTEND:20210531T150000Z
SUMMARY:Live Virtual Storytime 
LOCATION:Online
END:VEVENT
END:VCALENDAR
