BEGIN:VCALENDAR
VERSION:2.0
METHOD:PUBLISH
BEGIN:VEVENT
DTSTAMP:20260419T183753Z
DTSTART:20210517T143000Z
DTEND:20210517T150000Z
SUMMARY:Live Virtual Storytime 
LOCATION:Online
END:VEVENT
END:VCALENDAR
