BEGIN:VCALENDAR
VERSION:2.0
METHOD:PUBLISH
BEGIN:VEVENT
DTSTAMP:20260419T184702Z
DTSTART:20210510T143000Z
DTEND:20210510T150000Z
SUMMARY:Live Virtual Storytime 
LOCATION:Online
END:VEVENT
END:VCALENDAR
