BEGIN:VCALENDAR
VERSION:2.0
METHOD:PUBLISH
BEGIN:VEVENT
DTSTAMP:20260419T170922Z
DTSTART:20210503T143000Z
DTEND:20210503T150000Z
SUMMARY:Live Virtual Storytime 
LOCATION:Online
END:VEVENT
END:VCALENDAR
