BEGIN:VCALENDAR
VERSION:2.0
METHOD:PUBLISH
BEGIN:VEVENT
DTSTAMP:20260421T082228Z
DTSTART:20210419T041500Z
DTEND:20210419T041500Z
SUMMARY:Adult Recommended Reads - Video Upload
LOCATION:Online
END:VEVENT
END:VCALENDAR
