BEGIN:VCALENDAR
VERSION:2.0
METHOD:PUBLISH
BEGIN:VEVENT
DTSTAMP:20260421T101831Z
DTSTART:20210309T180000Z
DTEND:20210309T180000Z
SUMMARY:Healthy You - Virtual Workshop Series
LOCATION:Online
END:VEVENT
END:VCALENDAR
