BEGIN:VCALENDAR
VERSION:2.0
METHOD:PUBLISH
BEGIN:VEVENT
DTSTAMP:20260421T081633Z
DTSTART:20210301T051500Z
DTEND:20210301T051500Z
SUMMARY:Adult Recommended Reads - Video Upload
LOCATION:Online
END:VEVENT
END:VCALENDAR
