BEGIN:VCALENDAR
VERSION:2.0
METHOD:PUBLISH
BEGIN:VEVENT
DTSTAMP:20260421T101757Z
DTSTART:20210223T180000Z
DTEND:20210223T180000Z
SUMMARY:Healthy You - Virtual Workshop Series
LOCATION:Online
END:VEVENT
END:VCALENDAR
