BEGIN:VCALENDAR
VERSION:2.0
METHOD:PUBLISH
BEGIN:VEVENT
DTSTAMP:20260421T102035Z
DTSTART:20201215T193000Z
DTEND:20201215T193000Z
SUMMARY:Lifescapes - Memoir Writing Virtual Workshop Series
LOCATION:Online
END:VEVENT
END:VCALENDAR
