BEGIN:VCALENDAR
VERSION:2.0
METHOD:PUBLISH
BEGIN:VEVENT
DTSTAMP:20260420T012229Z
DTSTART:20201021T170000Z
DTEND:20201021T180000Z
SUMMARY:Virtual Book Launch: Trapped in Hitler's Web by Marsha Forchuk Skrypuch
LOCATION:Online
END:VEVENT
END:VCALENDAR
