BEGIN:VCALENDAR
VERSION:2.0
METHOD:PUBLISH
BEGIN:VEVENT
DTSTAMP:20260422T095341Z
DTSTART:20200729T140000Z
DTEND:20200729T150000Z
SUMMARY:Paint Your Own Wooden Sign
LOCATION:173 Colborne Street
END:VEVENT
END:VCALENDAR
