BEGIN:VCALENDAR
VERSION:2.0
METHOD:PUBLISH
BEGIN:VEVENT
DTSTAMP:20260422T105423Z
DTSTART:20200429T220000Z
DTEND:20200429T230000Z
SUMMARY:- CANCELLED - Connection Through Comedy
LOCATION:173 Colborne Street
END:VEVENT
END:VCALENDAR
