BEGIN:VCALENDAR
VERSION:2.0
METHOD:PUBLISH
BEGIN:VEVENT
DTSTAMP:20260422T091726Z
DTSTART:20200325T220000Z
DTEND:20200325T230000Z
SUMMARY:- CANCELLED - Connection Through Comedy
LOCATION:173 Colborne Street
END:VEVENT
END:VCALENDAR
